BEGIN:VCALENDAR
X-WR-CALNAME:PrideParade.net
VERSION:2.0
PRODID:-//PrideParade.net ICS//EN
CALSCALE:GREGORIAN
METHOD:PUBLISH
BEGIN:VEVENT
DTSTART;VALUE=DATE-TIME:20130607T230000
DTEND;VALUE=DATE-TIME:20130607T230000
TRANSP:TRANSPARENT
SUMMARY:Fiyahh Friday
DESCRIPTION:BLACK STILETTO ENT &amp; SOO BROOKLYN PROMOTIONS &amp; MISS B PRES....\nFIYAHHH FRIDAY6/7/13\n10 READE ST NY NY 10007BTW READE &amp; ELK ST\nFREE B4 12AM WITH TEXT OR WITH THIS FLYER\nDJ MAYA "BROOKLYNS FINEST"DJ SUPA DAVE " DA PARTY STOPPA"MISS B ON DA MIC\nOPEN AT 11PM\n$10 B4 12AM--$15 AFTER\n2-4-1 DRINKS TILL 1AM\, BOTTLES $100 AND UP\, FULL KITCHEN\, VIP TABLES AVAILABLE!!!\nHOSTED BY: MS. ATTI STAR\, JINGLES\, SYNCERE AMHOUSE\, JUICY\, APPLE\, DAVID &amp; OBEY NY LEZ\nBIG UPS TO ALL THE GEMINIS CELEBRATING HARD THAT WEEK WITH US FREE ADMISSION TILL 1AM!!!\nNEED TO RSVP FOR YOUR BDAY OR TABLE\, BOTTLE SERVICES...CONTACT INFO:MISS B 917-535-2662 @MISSB718HD: 718-781-7527 @SOOBROOKLYN
URL;VALUE=URI:https://www.prideparade.net/events/view/united-states/new-york-ny/abella/fiyahh-friday
UID:https://www.prideparade.net/events/view/united-states/new-york-ny/abella/fiyahh-friday
DTSTAMP:20130525T113853
LAST-MODIFIED:20130525T113947
CATEGORIES:Events
STATUS:CONFIRMED
SEQUENCE:1
ORGANIZER;CN=PrideParade.net:X-ADDR:https://www.prideparade.net/
LOCATION:10 Reade Street\, New York, NY. United states
END:VEVENT
END:VCALENDAR
