BEGIN:VCALENDAR
X-WR-CALNAME:PrideParade.net
VERSION:2.0
PRODID:-//PrideParade.net ICS//EN
CALSCALE:GREGORIAN
METHOD:PUBLISH
BEGIN:VEVENT
DTSTART;VALUE=DATE-TIME:20130425T220000
DTEND;VALUE=DATE-TIME:20130425T220000
TRANSP:TRANSPARENT
SUMMARY:X-Rated
DESCRIPTION:ATL to Philly we are bringing you the sexy side of pride! Join Pony Entertainment &amp; Maroon Eyes Philly for...\n&nbsp;\nX-RATED\nThursday\, April 25th\n@ Industry XIX\n1904 Chestnut Street&nbsp;\n$10 entry\nExotic Entertainment and more...&nbsp;\n&nbsp;\nFeaturing Pony\, Seduction\, Bella\, Queen and guest from Atl... booths and bottle service available...\n&nbsp;\nGo to www.marooneyesphilly.com for additional Pride events\, hotel information and more... for tickets to Saturday's LIP SERVICE w/ Kamielle Leai go to http://www.phillyblackpridelipservice.eventbrite.com/\n&nbsp;\nLet's get X-RATED...
URL;VALUE=URI:https://www.prideparade.net/events/view/united-states/philadelphia-pa/industry-xix/x-rated
UID:https://www.prideparade.net/events/view/united-states/philadelphia-pa/industry-xix/x-rated
DTSTAMP:20130325T125641
LAST-MODIFIED:20130326T092504
CATEGORIES:Events
STATUS:CONFIRMED
SEQUENCE:0
ORGANIZER;CN=PrideParade.net:X-ADDR:https://www.prideparade.net/
LOCATION:1904 Chestnut Street\, Philadelphia, PA. United states
END:VEVENT
END:VCALENDAR
