BEGIN:VCALENDAR
X-WR-CALNAME:PrideParade.net
VERSION:2.0
PRODID:-//PrideParade.net ICS//EN
CALSCALE:GREGORIAN
METHOD:PUBLISH
BEGIN:VEVENT
DTSTART;VALUE=DATE-TIME:20140401T210000
DTEND;VALUE=DATE-TIME:20140401T210000
TRANSP:TRANSPARENT
SUMMARY:Buffboyzz
DESCRIPTION:In NYC and Astoria Queens our reviews are hot\, but for sizzling action check out Buffboyzz in long island\, our All nude male review for men !! Hot boyzz not seen anywhere dancing for your delight !!
URL;VALUE=URI:https://www.prideparade.net/events/view/united-states/new-york-ny/bartini-ultra-lounge/buffboyzz
UID:https://www.prideparade.net/events/view/united-states/new-york-ny/bartini-ultra-lounge/buffboyzz
DTSTAMP:20140401T152428
LAST-MODIFIED:20140401T152429
CATEGORIES:Events
STATUS:CONFIRMED
SEQUENCE:0
ORGANIZER;CN=PrideParade.net:X-ADDR:https://www.prideparade.net/
LOCATION:642 Tenth Avenue\, New York, NY. United states
END:VEVENT
END:VCALENDAR
