BEGIN:VCALENDAR
X-WR-CALNAME:PrideParade.net
VERSION:2.0
PRODID:-//PrideParade.net ICS//EN
CALSCALE:GREGORIAN
METHOD:PUBLISH
BEGIN:VEVENT
DTSTART;VALUE=DATE-TIME:20140402T190000
DTEND;VALUE=DATE-TIME:20140402T190000
TRANSP:TRANSPARENT
SUMMARY:Rainbow Tango Mixer
DESCRIPTION:Have you ever danced tango with a person of the same sex? Or how about a woman who takes the lead in the dance? Come to Rainbow Tango and find out what you've been missing! Traditional dance roles are broken here. Experienced and beginner dancers are welcomed. What if you never danced tango? We can start you up with a&nbsp;quick intro! No partner necessary\, wear comfortable shoes - smooth soles preferred. Anyone can lead! Anyone can follow!Where: Asura Restaurant\, 235 West 35th St (By Wingate hotel)When: Wednesday April 2\, 2014&nbsp;Time: 7:00pm - 10:00pm$10 per person - includes introdutory class
URL;VALUE=URI:https://www.prideparade.net/events/view/united-states/new-york-ny/pearl-studios/rainbow-tango-mixer
UID:https://www.prideparade.net/events/view/united-states/new-york-ny/pearl-studios/rainbow-tango-mixer
DTSTAMP:20140401T154649
LAST-MODIFIED:20140404T161232
CATEGORIES:Events
STATUS:CONFIRMED
SEQUENCE:1
ORGANIZER;CN=PrideParade.net:X-ADDR:https://www.prideparade.net/
LOCATION:500 8th Avenue 12th Floor\, New York, NY. United states
END:VEVENT
END:VCALENDAR
