BEGIN:VCALENDAR
X-WR-CALNAME:PrideParade.net
VERSION:2.0
PRODID:-//PrideParade.net ICS//EN
CALSCALE:GREGORIAN
METHOD:PUBLISH
BEGIN:VEVENT
DTSTART;VALUE=DATE-TIME:20141004T220000
DTEND;VALUE=DATE-TIME:20141004T220000
TRANSP:TRANSPARENT
SUMMARY:PlayBoi
DESCRIPTION:Chris Ryan Productions &amp; Promotions &amp; Holly Dae\nPLAYboi at Phoenix Bar Saturdays Saturdays\nThe WILDEST East Village Gay Party!\n&nbsp;\nOne of the craziest Saturday night bar dance parties ensues! We play nearly-naked Twister for a $30 Bar Tab or show your penis for a free drink!!\nVIP Birthday Celebrations for Kyle Parent &amp; Joseph M. Veloz!!\nMusic By:DJ Xavier MazaraNO COVER!\nPhoenix Bar447 East 13th Street Btwn 1st/Ave. A\nWinner of BEST WEEKLY PARTY 2013 by GetOut Magazine &amp; Best Bar 2013 by Odyssey Magazine New York !\nhttp://www.chrisryannyc.com/http://www.Twitter.com/ChrisRyanNY
URL;VALUE=URI:https://www.prideparade.net/events/view/united-states/new-york-ny/phoenix-bar/playboi-1
UID:https://www.prideparade.net/events/view/united-states/new-york-ny/phoenix-bar/playboi-1
DTSTAMP:20141001T201120
LAST-MODIFIED:20141001T201121
CATEGORIES:
STATUS:CONFIRMED
SEQUENCE:0
ORGANIZER;CN=PrideParade.net:X-ADDR:https://www.prideparade.net/
LOCATION:447 East 13th Street\, New York, NY. United states
END:VEVENT
END:VCALENDAR
