BEGIN:VCALENDAR
X-WR-CALNAME:PrideParade.net
VERSION:2.0
PRODID:-//PrideParade.net ICS//EN
CALSCALE:GREGORIAN
METHOD:PUBLISH
BEGIN:VEVENT
DTSTART;VALUE=DATE-TIME:20141010T220000
DTEND;VALUE=DATE-TIME:20141010T220000
TRANSP:TRANSPARENT
SUMMARY:Iluminar La Noche
DESCRIPTION:▶▶ VIERNES 10 DE OCTUBRE // FRIDAY OCTOBER 10en la CASCADA ▶▶ ILUMINAR LA NOCHE GLOW PARTY VOL.1!! ENVIVO EL GLOW ROBOT▶▶▶▶▶ CASACADA : 1114 MAIN ST\, ASBURY PARK ▶▶▶▶▶▶▶▶▶▶▶▶▶▶▶▶▶▶▶▶▶▶▶▶▶▶▶▶▶▶▶▶▶\nDAMAS GRATIS HASTA LAS 10:30PM EN LA LISTA!!!!!!!!\nLA HORA LOCA!!NEON GLOWSTICKS / COMPLIMENTARY SHOTS / LLUVIA DE GOLBOSDRINK &amp; SHOTS SPECIALS!!!\nLATIN BEAT FRIDAYS "NOCHE LATINA"BOTELLAS $100 hasta las 11:30pm\n▶▶ hosted by Emmy l Denise l Monica I "El Padrino" I Grissel I Sheily I Tu Chikki I Sofia\n▶▶ DJ TRES / CHRISTIAN BLAZE / DJ D'PIOLA::::: :::::\n::::::celebrate your birthday with us / paquete de cumpleanos vip::::: 2 premium bottles / 1 champagne / cake / balloons for $300\n▶▶ BOOK YOUR BDAY OR VIP now call or text☎732-804 - 4582SEE YOU ALL AT THE CLUB\n(((( PARA LA LISTA DE INVITADOS MANDENUN MENSAJE DE TEXTO CON LA PALABRA :::: CASCADA Y TU NOMBRE A732.804.4582 )))))\n#7328044582 #JERSEYSHORELATINOSNJ #NJLATINOS #LATINBEATFRIDAYS
URL;VALUE=URI:https://www.prideparade.net/events/view/united-states/asbury-park-nj/cascada/iluminar-la-noche
UID:https://www.prideparade.net/events/view/united-states/asbury-park-nj/cascada/iluminar-la-noche
DTSTAMP:20141005T145508
LAST-MODIFIED:20141005T211935
CATEGORIES:Events
STATUS:CONFIRMED
SEQUENCE:0
ORGANIZER;CN=PrideParade.net:X-ADDR:https://www.prideparade.net/
LOCATION:1114 Main Street\, Asbury Park, NJ. United states
END:VEVENT
END:VCALENDAR
