BEGIN:VCALENDAR
X-WR-CALNAME:PrideParade.net
VERSION:2.0
PRODID:-//PrideParade.net ICS//EN
CALSCALE:GREGORIAN
METHOD:PUBLISH
BEGIN:VEVENT
DTSTART;VALUE=DATE-TIME:20150108T210000
DTEND;VALUE=DATE-TIME:20150108T210000
TRANSP:TRANSPARENT
SUMMARY:BULGE!
DESCRIPTION:The infamous POWERHOUSE UNDERWEAR NIGHT! Grace Towers Presents BULGE\, with a Midnight Underwear Contest for a $100 Prize! Underwear party every Thursday at the Powerhouse\, 9pm to 2am. $5 cover
URL;VALUE=URI:https://www.prideparade.net/events/view/united-states/san-francisco-ca/powerhouse/bulge-5
UID:https://www.prideparade.net/events/view/united-states/san-francisco-ca/powerhouse/bulge-5
DTSTAMP:20141204T184557
LAST-MODIFIED:20141204T184557
CATEGORIES:Events
STATUS:CONFIRMED
SEQUENCE:0
ORGANIZER;CN=PrideParade.net:X-ADDR:https://www.prideparade.net/
LOCATION:1347 Folsom Street\, San Francisco, CA. United states
END:VEVENT
END:VCALENDAR
