BEGIN:VCALENDAR
X-WR-CALNAME:PrideParade.net
VERSION:2.0
PRODID:-//PrideParade.net ICS//EN
CALSCALE:GREGORIAN
METHOD:PUBLISH
BEGIN:VEVENT
DTSTART;VALUE=DATE-TIME:20150122T180000
DTEND;VALUE=DATE-TIME:20150122T180000
TRANSP:TRANSPARENT
SUMMARY:Plan Well Before The Wedding Bell
DESCRIPTION:Join Angela Giampolo and Ryan Fuller for an informative LGBT seminar to learn what living in a Post-DOMA world means for you and your family. Enjoy complimentary hors d'oeuvres and great company while we discuss the progress that has been made over the last 18 months and what we have to look forward to ahead!
URL;VALUE=URI:https://www.prideparade.net/events/view/united-states/new-hope-pa/the-cub-room/plan-well-before-the-wedding-bell
UID:https://www.prideparade.net/events/view/united-states/new-hope-pa/the-cub-room/plan-well-before-the-wedding-bell
DTSTAMP:20141219T033335
LAST-MODIFIED:20141219T033336
CATEGORIES:Events
STATUS:CONFIRMED
SEQUENCE:0
ORGANIZER;CN=PrideParade.net:X-ADDR:https://www.prideparade.net/
LOCATION:400 West Bridge Street\, New Hope, PA. United states
END:VEVENT
END:VCALENDAR
