BEGIN:VCALENDAR
X-WR-CALNAME:PrideParade.net
VERSION:2.0
PRODID:-//PrideParade.net ICS//EN
CALSCALE:GREGORIAN
METHOD:PUBLISH
BEGIN:VEVENT
DTSTART;VALUE=DATE-TIME:20130328T230000
DTEND;VALUE=DATE-TIME:20130328T230000
TRANSP:TRANSPARENT
SUMMARY:High Society
DESCRIPTION:Bringin' you Fever straight from the door
URL;VALUE=URI:https://www.prideparade.net/events/view/united-states/new-york-ny/boots-saddle-1/high-society
UID:https://www.prideparade.net/events/view/united-states/new-york-ny/boots-saddle-1/high-society
DTSTAMP:20130328T073611
LAST-MODIFIED:20130328T073612
CATEGORIES:Events
STATUS:CONFIRMED
SEQUENCE:0
ORGANIZER;CN=PrideParade.net:X-ADDR:https://www.prideparade.net/
LOCATION:100 7th Avenue South\, New York, NY. United states
END:VEVENT
END:VCALENDAR
