BEGIN:VCALENDAR
X-WR-CALNAME:PrideParade.net
VERSION:2.0
PRODID:-//PrideParade.net ICS//EN
CALSCALE:GREGORIAN
METHOD:PUBLISH
BEGIN:VEVENT
DTSTART;VALUE=DATE-TIME:20130407T040000
DTEND;VALUE=DATE-TIME:20130407T040000
TRANSP:TRANSPARENT
SUMMARY:Alchemy: Spring Fever
DESCRIPTION:The most important details?? Sunday\, April 7th\, 4-8pm.\n&nbsp;\nNO COVER.&nbsp;\n&nbsp;\nFrom 4-5pm the FIRST 10 ladies through the door get a FREE mimosa!!!\n&nbsp;\nThe hypnotizing sounds of Danophonic from 4pm-8pm.\n&nbsp;\nDrink specials\, great conversation\, delicious food and beautiful people.\n&nbsp;\nWere you there last month?? I know you are coming back\, so bring a friend!!\nYou missed last month?? I forgive you\, so make sure I see your lovely faces Sunday\, April 7th.\n&nbsp;\nGet there early!!&nbsp;
URL;VALUE=URI:https://www.prideparade.net/events/view/united-states/philadelphia-pa/tietra/alchemy-spring-fever
UID:https://www.prideparade.net/events/view/united-states/philadelphia-pa/tietra/alchemy-spring-fever
DTSTAMP:20130328T115628
LAST-MODIFIED:20130328T115629
CATEGORIES:Events
STATUS:CONFIRMED
SEQUENCE:0
ORGANIZER;CN=PrideParade.net:X-ADDR:https://www.prideparade.net/
LOCATION:1425 Locust Street\, Philadelphia, PA. United states
END:VEVENT
END:VCALENDAR
