BEGIN:VCALENDAR
X-WR-CALNAME:PrideParade.net
VERSION:2.0
PRODID:-//PrideParade.net ICS//EN
CALSCALE:GREGORIAN
METHOD:PUBLISH
BEGIN:VEVENT
DTSTART;VALUE=DATE-TIME:20211121T200000
DTEND;VALUE=DATE-TIME:20211121T200000
TRANSP:TRANSPARENT
SUMMARY:Babe Area LIVE! at Oasis in San Francisco CA
DESCRIPTION:Babe Area LIVE! at Oasis in San Francisco CA\nSunday\, November 21\, 2021 - 8:00PM to 10:30PM PST\nBay Area's most renowned fringe arts curators have come together for one night of sensual &amp; hilarious magic!! A Production of Productions Sunday\, November 21st! Join a star studded cast of peelers\, wigglers &amp; teasers for another Babe Area LIVE at Oasis!&nbsp;\n&nbsp;\nTwo seatings: 5P Door\, 5:30P Show &amp; 8P Door\, 8:30P Show\n&nbsp;\nHosted by Alotta Boutt&eacute; &amp; RedBone with featured performances by Rebel Kings of Oakland &bull; Sir JoQ &amp; Company &bull; 3 Tiny Clowns &bull; The Velvettes &bull; The Von Jynx Sisters &bull; Bri Crabtree &bull; Edie Eve &bull; Vyxen Monroe &bull; Burlesque Legend Viva La Fever and more! It's THEE collaboration of collaborations benefiting The Burlesque Hall of Fame Museum &amp; Victims of Hurricane Ida.\n&nbsp;\nOasis accessibility info here:\n&nbsp;\neventbrite.com/e/babe-area-live-tickets-183828464887\n&nbsp;\n&nbsp;&nbsp;&nbsp;&nbsp;
URL;VALUE=URI:https://www.prideparade.net/events/view/united-states/san-francisco-ca/oasis/babe-area-live-at-oasis-in-san-francisco-ca-1
UID:https://www.prideparade.net/events/view/united-states/san-francisco-ca/oasis/babe-area-live-at-oasis-in-san-francisco-ca-1
DTSTAMP:20211107T150629
LAST-MODIFIED:20211107T150629
CATEGORIES:Drag Shows
STATUS:CONFIRMED
SEQUENCE:0
ORGANIZER;CN=PrideParade.net:X-ADDR:https://www.prideparade.net/
LOCATION:298 11th Street\, San Francisco, CA. United states
END:VEVENT
END:VCALENDAR
