BEGIN:VCALENDAR
X-WR-CALNAME:PrideParade.net
VERSION:2.0
PRODID:-//PrideParade.net ICS//EN
CALSCALE:GREGORIAN
METHOD:PUBLISH
BEGIN:VEVENT
DTSTART;VALUE=DATE-TIME:20211128T190000
DTEND;VALUE=DATE-TIME:20211128T190000
TRANSP:TRANSPARENT
SUMMARY:Le Drags Hot at Oasis in San Francisco CA
DESCRIPTION:Le Drags Hot at Oasis in San Francisco CA\nSunday\, November 28\, 2021 - 7:00PM to 2:00AM PST\nA new drag show featuring sultry singers\, fiery burlesque entertainment\, and captivating drag. Le Drags Hot takes you back to the variety shows of decades past\, featuring an array of queer talent. As the title says\, the drag&rsquo;s HOT.\n&nbsp;\nHosted by Nitrix Oxide and Afrika America\n&nbsp;\nStarring:\nAmoura Teese\nMary Vice\nDivinity (LA)\nwith DJ Ghostwolf\n&nbsp;\nOasis is 21+ for all events.\n&nbsp;\nPlease bring a valid ID.\n&nbsp;\neventbrite.com/e/le-drags-hot-tickets-208169981017\n&nbsp;\n&nbsp;&nbsp;&nbsp;&nbsp;
URL;VALUE=URI:https://www.prideparade.net/events/view/united-states/san-francisco-ca/oasis/le-drags-hot-at-oasis-in-san-francisco-ca
UID:https://www.prideparade.net/events/view/united-states/san-francisco-ca/oasis/le-drags-hot-at-oasis-in-san-francisco-ca
DTSTAMP:20211110T140828
LAST-MODIFIED:20211110T140828
CATEGORIES:Drag Shows
STATUS:CONFIRMED
SEQUENCE:0
ORGANIZER;CN=PrideParade.net:X-ADDR:https://www.prideparade.net/
LOCATION:298 11th Street\, San Francisco, CA. United states
END:VEVENT
END:VCALENDAR
