BEGIN:VCALENDAR
X-WR-CALNAME:PrideParade.net
VERSION:2.0
PRODID:-//PrideParade.net ICS//EN
CALSCALE:GREGORIAN
METHOD:PUBLISH
BEGIN:VEVENT
DTSTART;VALUE=DATE-TIME:20220626T170000
DTEND;VALUE=DATE-TIME:20220626T170000
TRANSP:TRANSPARENT
SUMMARY:Hot Tea: Pride 2022 at Audio in San Francisco CA
DESCRIPTION:Hot Tea: Pride 2022 at Audio in San Francisco CA\nSunday\, June 26\, 2022 - 5:00PM to 12:00AM PST\n\nCecil Russell is bringing you piping&nbsp;Hot Tea&nbsp;for the 5th year anniversary on San Francisco Pride Sunday with 6 amazing DJs!\nJoin us as we bring back our piping&nbsp;T-Dance from 5pm-12am on June 26th at the combined Audio &amp; Bergerac with 2 floors of simultaneous entertainment&nbsp;from 2 DJs playing at the same time!\n&nbsp;\nLimited VIP tickets are available and include exclusive access to the area beside the DJ\, water\, snacks\, bottle service &amp; a circuit gift bag&nbsp;with tonnes of freebies!\n&nbsp;\nCapacity is limited and our event last year was sold out\, so don&rsquo;t wait! Limited VIP &amp; discounted pre-sale tickets&nbsp;are on sale now at&nbsp;GlossPresents.com\n&nbsp;\nDJ Lineup:Andrew GibbonsBugieDan SlaterMarvin AyyNina FlowersShane Marcus\nVenue: Audio San Francisco + BergeracAddress: 316 11th Street\, San Francisco\, CA 94103\nTickets at:&nbsp;GlossPresents.com\n&nbsp;\nSponsored by:&nbsp;TITOS VODKA&nbsp;SKREWBALL PEANUT BUTTER WHISKEY\n\neventbrite.com/e/hot-tea-pride-2022-tickets-208206931537
URL;VALUE=URI:https://www.prideparade.net/events/view/united-states/san-francisco-ca/audio/hot-tea-pride-2022-at-audio-in-san-francisco-ca
UID:https://www.prideparade.net/events/view/united-states/san-francisco-ca/audio/hot-tea-pride-2022-at-audio-in-san-francisco-ca
DTSTAMP:20211112T124839
LAST-MODIFIED:20220504T162026
CATEGORIES:Events
STATUS:CONFIRMED
SEQUENCE:2
ORGANIZER;CN=PrideParade.net:X-ADDR:https://www.prideparade.net/
LOCATION:316 11th Street\, San Francisco, CA. United states
END:VEVENT
END:VCALENDAR
