BEGIN:VCALENDAR
X-WR-CALNAME:PrideParade.net
VERSION:2.0
PRODID:-//PrideParade.net ICS//EN
CALSCALE:GREGORIAN
METHOD:PUBLISH
BEGIN:VEVENT
DTSTART;VALUE=DATE-TIME:20130331T220000
DTEND;VALUE=DATE-TIME:20130331T220000
TRANSP:TRANSPARENT
SUMMARY:Slurp! Easter Sunday
DESCRIPTION:\nJoin Showbiz Spitfire PAIGE TURNER for SLURP-her long running weekly variety show -showstopping numbers with a little tawdry on the side\, games\, prizes and mayhem! ! join me and Danish Delight Shnappshanna Von Carlsberg! Eggs\, Rabbits\, Jesus\, Holy Water and DJ Billy! videos\, shenanigans\, prizes and plenty of slurps!
URL;VALUE=URI:https://www.prideparade.net/events/view/united-states/new-york-ny/vlada-lounge/slurp-easter-sunday
UID:https://www.prideparade.net/events/view/united-states/new-york-ny/vlada-lounge/slurp-easter-sunday
DTSTAMP:20130328T153550
LAST-MODIFIED:20130331T063611
CATEGORIES:Events
STATUS:CONFIRMED
SEQUENCE:0
ORGANIZER;CN=PrideParade.net:X-ADDR:https://www.prideparade.net/
LOCATION:331 West 51st Street\, New York, NY. United states
END:VEVENT
END:VCALENDAR
