BEGIN:VCALENDAR
X-WR-CALNAME:PrideParade.net
VERSION:2.0
PRODID:-//PrideParade.net ICS//EN
CALSCALE:GREGORIAN
METHOD:PUBLISH
BEGIN:VEVENT
DTSTART;VALUE=DATE-TIME:20170630T170000
DTEND;VALUE=DATE-TIME:20170630T170000
TRANSP:TRANSPARENT
SUMMARY:Baltimore Bear Friday
DESCRIPTION:This Friday all floors of the Baltimore Eagle Night Club and Bar will be taken over by Bears.\nFriday\, June 30\, 2017BEARS\, BURGERS\, BEARLESQUE\nBaltimore Eagle Night Club and Bar2022 N Charles StBaltimore MD 21218\n&mdash; BEARS &mdash;\nBALTIMORE BEAR FRIDAY\n5 &ndash; 9 pm : BEAR HAPPY HOUREagle Tavern : FREE &ndash; No cover charge\n9p &ndash; 2a : BEARS AFTER DARK (BAD)Eagle Tavern and the Code Bar : $5 cover\nDJ Ryan Doubleyou is spinning!https://soundcloud.com/dj-ryandoubleyou\nShirtless or leather is enforced only in the Code Bar. It's a lot of fun! Eagle Tavern stays a food and sports bar\, with go-go Bears.\n&mdash; BURGERS &mdash;\nEagle Eats gastro pub is open until midnight\nSee the menu at http://www.thebaltimoreeagle.com/\n&mdash; BEARLESQUE &mdash;\n- Nest Nightclub and Josh Schonewolf present -\n&ldquo;Bearlesque&rdquo;10:00 pm in the Nest(Upstairs at the Baltimore Eagle)\nShows by &ldquo;Bearlesque&rdquo; are called:\n&ldquo;Frilly and fun in all the right ways&rdquo; - Philadelphia Magazine&ldquo;All about body positivity&rdquo; - Kaci Lewandowski\, Temple University Multimedia&ldquo;The hairiest show around&rdquo; - Time Out Philadelphia\nGet your tickets at http://www.thebaltimoreeagle.com/\n&mdash; COME RUB SOME FUR! &mdash;\nhttp://bearnonsense.com/
URL;VALUE=URI:https://www.prideparade.net/events/view/united-states/baltimore-md/baltimore-eagle/baltimore-bear-friday
UID:https://www.prideparade.net/events/view/united-states/baltimore-md/baltimore-eagle/baltimore-bear-friday
DTSTAMP:20170630T161352
LAST-MODIFIED:20170630T161352
CATEGORIES:Events
STATUS:CONFIRMED
SEQUENCE:0
ORGANIZER;CN=PrideParade.net:X-ADDR:https://www.prideparade.net/
LOCATION:2022 North Charles Street\, Baltimore, MD. United states
END:VEVENT
END:VCALENDAR
