BEGIN:VCALENDAR
X-WR-CALNAME:PrideParade.net
VERSION:2.0
PRODID:-//PrideParade.net ICS//EN
CALSCALE:GREGORIAN
METHOD:PUBLISH
BEGIN:VEVENT
DTSTART;VALUE=DATE-TIME:20170715T183000
DTEND;VALUE=DATE-TIME:20170715T183000
TRANSP:TRANSPARENT
SUMMARY:Nice Rack LLC: Saturdays Open Mic
DESCRIPTION:Come join us Saturday\, July 15th at Toasted Walnut Bar and Kitchen for open mic!! Sign ups are at 6:30 and the show will kick off at 7pm. Support local talent!! Featured artist TBA. This event is 21+. A PA\, mixer\, couple mics\, and 88 key hammer action keyboard will be provided. If you need guitar amps and/or a drumset\, please contact us in advance. Email nicerackllc@gmail.com. $4 Narragansett Pounders\, $5 Miller Lite Pounders\, Mixed Drinks/Shots starting at $5. Stick around after the open mic and show us a few of your dance moves. DJ starts at 10pm. DJ TBA. Hope to see you there!
URL;VALUE=URI:https://www.prideparade.net/events/view/united-states/philadelphia-pa/toasted-walnut-bar-kitchen/nice-rack-llc-saturdays-open-mic
UID:https://www.prideparade.net/events/view/united-states/philadelphia-pa/toasted-walnut-bar-kitchen/nice-rack-llc-saturdays-open-mic
DTSTAMP:20170701T110230
LAST-MODIFIED:20170701T110231
CATEGORIES:Events
STATUS:CONFIRMED
SEQUENCE:0
ORGANIZER;CN=PrideParade.net:X-ADDR:https://www.prideparade.net/
LOCATION:1316 Walnut Street\, Philadelphia, PA. United states
END:VEVENT
END:VCALENDAR
