BEGIN:VCALENDAR
X-WR-CALNAME:PrideParade.net
VERSION:2.0
PRODID:-//PrideParade.net ICS//EN
CALSCALE:GREGORIAN
METHOD:PUBLISH
BEGIN:VEVENT
DTSTART;VALUE=DATE-TIME:20170729T220000
DTEND;VALUE=DATE-TIME:20170729T220000
TRANSP:TRANSPARENT
SUMMARY:Jockstraps For Justice
DESCRIPTION:Mass Bears And Cubs Presents Jockstraps For Justice\n&nbsp;\nJockstraps And Gear Auction Supporting The HRC.\n&nbsp;\nProvidence Eagle\nSaturday\, July 29\, 2017\n&nbsp;\nBlock Party 10PM To 2AM\nAuction 12AM
URL;VALUE=URI:https://www.prideparade.net/events/view/united-states/providence-ri/providence-eagle/jockstraps-for-justice
UID:https://www.prideparade.net/events/view/united-states/providence-ri/providence-eagle/jockstraps-for-justice
DTSTAMP:20170703T202134
LAST-MODIFIED:20170703T202135
CATEGORIES:Events
STATUS:CONFIRMED
SEQUENCE:0
ORGANIZER;CN=PrideParade.net:X-ADDR:https://www.prideparade.net/
LOCATION:124 Snow Street\, Providence, RI. United states
END:VEVENT
END:VCALENDAR
