BEGIN:VCALENDAR
X-WR-CALNAME:PrideParade.net
VERSION:2.0
PRODID:-//PrideParade.net ICS//EN
CALSCALE:GREGORIAN
METHOD:PUBLISH
BEGIN:VEVENT
DTSTART;VALUE=DATE-TIME:20170715T113000
DTEND;VALUE=DATE-TIME:20170715T113000
TRANSP:TRANSPARENT
SUMMARY:Brunch At The Bufalo
DESCRIPTION:The week is over\, still hung over from that friday blowout\, want to kick off the weekend right\, then come on down to El Bufalo to get your Saturday Brunch on with some Drag Queens!\nShow starts at 12.Bottomless drink special where you can mix and match your mimosas\, bloody mary's and tequila sunrises!.\nEmail elbufaloevents@gmail.com to make a reservation\, you know you wanna get that good seat!\nWhy cease your weekend adventure after Saturday night? Bring on your Sunday Bender with some of Baltimore's most exhilerating female impersanators.\nEl Bufalo presents to you Sunday Bender: a Drag Brunch with your Hostess\, the human cannonball of filth and glitter\, Bambi Galore!\nCome to El Bufalo to taste the spicy while watching the hottest Drag Queens in Baltimore perform before your very eyes.\nAnd if you are celebrating anything from a birthday to a divorce\, brunch with the girls at El Bufalo is a must!\nCome see the incredible talents of:Viola BlairVictoria BohmoreDee Dee DereonWith Neophyte Highlight: Pariah Sinclair\nWith Sound Techincianing by DJ Phizz\nSo come on down and sit a spell with us\, get your drink on and Praise the fabulosity!\nBottomless Mimosas\, Tequila Sunrises\, &amp; Bloody Marys available to keep your Spirits High! You can get down with them starting as early as 10 am!\nAll ages are welcome but only those who are legal may imbibe in the delicious selection of cocktails and beers served here. And remember\, we are queens so while you can bring the little ones\, this isn't going to be PG\, ok?
URL;VALUE=URI:https://www.prideparade.net/events/view/united-states/baltimore-md/el-bufalo-tequila-bar-kitchen/brunch-at-the-bufalo
UID:https://www.prideparade.net/events/view/united-states/baltimore-md/el-bufalo-tequila-bar-kitchen/brunch-at-the-bufalo
DTSTAMP:20170705T211423
LAST-MODIFIED:20170705T211423
CATEGORIES:Events
STATUS:CONFIRMED
SEQUENCE:0
ORGANIZER;CN=PrideParade.net:X-ADDR:https://www.prideparade.net/
LOCATION:2921 O'Donnell Street\, Baltimore, MD. United states
END:VEVENT
END:VCALENDAR
