BEGIN:VCALENDAR
X-WR-CALNAME:PrideParade.net
VERSION:2.0
PRODID:-//PrideParade.net ICS//EN
CALSCALE:GREGORIAN
METHOD:PUBLISH
BEGIN:VEVENT
DTSTART;VALUE=DATE-TIME:20170723T170000
DTEND;VALUE=DATE-TIME:20170723T170000
TRANSP:TRANSPARENT
SUMMARY:Sunday Tea
DESCRIPTION:NEW season. NEW moves.\nBACK BY POPULAR DEMAND! Philly's NEWEST Day party for LGBTQ folx and those who love us is the Sunday Funday party you can't miss.\nEVENT WILL SELL OUT and TICKETS MUST BE BOUGHT IN ADVANCE**\nCelebrate Sunday Funday with the crew in one of Philly's sexiest open air venues!\nFREE appetizers provided by Positano CoastCHILL musicBEAUTIFUL peopleSPECIALTY drinksThe dopest LAIDBACK vibe in the city\nALL TEA\, no shade. Start your week off right!!\nAttire: Sunday Brunch casual\n$10! 21+\nEVENT WILL SELL OUT and TICKETS MUST BE BOUGHT IN ADVANCE\nThis party is all-Inclusive and centers QTPOC. Come out and get your life\, fam!**
URL;VALUE=URI:https://www.prideparade.net/events/view/united-states/philadelphia-pa/positano-coast/sunday-tea
UID:https://www.prideparade.net/events/view/united-states/philadelphia-pa/positano-coast/sunday-tea
DTSTAMP:20170706T161405
LAST-MODIFIED:20170706T161405
CATEGORIES:Events
STATUS:CONFIRMED
SEQUENCE:0
ORGANIZER;CN=PrideParade.net:X-ADDR:https://www.prideparade.net/
LOCATION:212 Walnut Street\, Philadelphia, PA. United states
END:VEVENT
END:VCALENDAR
