BEGIN:VCALENDAR
X-WR-CALNAME:PrideParade.net
VERSION:2.0
PRODID:-//PrideParade.net ICS//EN
CALSCALE:GREGORIAN
METHOD:PUBLISH
BEGIN:VEVENT
DTSTART;VALUE=DATE-TIME:20170818T220000
DTEND;VALUE=DATE-TIME:20170818T220000
TRANSP:TRANSPARENT
SUMMARY:Bearlesque: Baltimore
DESCRIPTION:Bearlesque 2017\nHere are our upcoming dates for Baltimore Eagle Night Club and Bar! Thanks again to everyone who came to the first one. We'll be back August 18th\, October 20th\, and December 15th. And then a shit ton of dates next year.\nSuper Excited.\nSee you in August!
URL;VALUE=URI:https://www.prideparade.net/events/view/united-states/baltimore-md/baltimore-eagle/bearlesque-baltimore-2
UID:https://www.prideparade.net/events/view/united-states/baltimore-md/baltimore-eagle/bearlesque-baltimore-2
DTSTAMP:20170711T204545
LAST-MODIFIED:20170711T205311
CATEGORIES:Events
STATUS:CONFIRMED
SEQUENCE:1
ORGANIZER;CN=PrideParade.net:X-ADDR:https://www.prideparade.net/
LOCATION:2022 North Charles Street\, Baltimore, MD. United states
END:VEVENT
END:VCALENDAR
