BEGIN:VCALENDAR
X-WR-CALNAME:PrideParade.net
VERSION:2.0
PRODID:-//PrideParade.net ICS//EN
CALSCALE:GREGORIAN
METHOD:PUBLISH
BEGIN:VEVENT
DTSTART;VALUE=DATE-TIME:20220805T210000
DTEND;VALUE=DATE-TIME:20220805T210000
TRANSP:TRANSPARENT
SUMMARY:Mack Attack at Thirst in New York NY
DESCRIPTION:Mack Attack at Thirst in New York NY\nEvery Friday - 9:00PM to 2:00AM EST\nI can't promise you a crazy crowd in the middle of the summer\, but I can promise you some cool beats\, lots of throwbacks\, new takes on classic songs and hot new trax!&nbsp;\n&nbsp;\nOn top of that\, cheap drinks\, some of the sexiest bartenders in Hells Kitchen and a great little dance floor in a beautiful cozy spanking new space.\n$5 LATE-NIGHT HAPPY HOUR FROM MIDNIGHT TO CLOSE!&nbsp;\n&nbsp;\nBeats by DJ JONNY MACK\nFRIDAYS 9PM to close\n&nbsp;\nNO COVER!\n&nbsp;\nthirstbarnyc.com
URL;VALUE=URI:https://www.prideparade.net/events/view/united-states/new-york-ny/thirst/mack-attack-at-thirst-in-new-york-ny
UID:https://www.prideparade.net/events/view/united-states/new-york-ny/thirst/mack-attack-at-thirst-in-new-york-ny
DTSTAMP:20220803T141646
LAST-MODIFIED:20220803T141646
CATEGORIES:Events
STATUS:CONFIRMED
SEQUENCE:1
ORGANIZER;CN=PrideParade.net:X-ADDR:https://www.prideparade.net/
LOCATION:692 Tenth Avenue\, New York, NY. United states
END:VEVENT
END:VCALENDAR
