BEGIN:VCALENDAR
X-WR-CALNAME:PrideParade.net
VERSION:2.0
PRODID:-//PrideParade.net ICS//EN
CALSCALE:GREGORIAN
METHOD:PUBLISH
BEGIN:VEVENT
DTSTART;VALUE=DATE-TIME:20230507T150000
DTEND;VALUE=DATE-TIME:20230507T150000
TRANSP:TRANSPARENT
SUMMARY:Eagle In Exile at Mixers Bar in Baltimore MD
DESCRIPTION:Eagle In Exile at Mixers Bar in Baltimore MD\nEvery Sundsy - 3:00PM to 12:00AM EST\nHonoring all the Eagle bars across the globe that are no longer around.&nbsp;\n&nbsp;\nFrom 3pm-7pm\, we have a fundraiser for local organizations\, clubs\, teams\, or titleholders. A $15 donation gets you special pricing on alcohol for those hours. If you are interested in signing up to be a beneficiary\, please contact Jack Thompson via FB Messenger.\n&nbsp;\nThen from 7pm-close\, we have a leather social/cigar party.\n&nbsp;\nHosted by Jack Thompson (International Mr. Leather 2019).\n&nbsp;\nThe leather community welcomes everyone at our events and so does Mixers.\n&nbsp;\nmixersbaltimore.com
URL;VALUE=URI:https://www.prideparade.net/events/view/united-states/baltimore-md/mixers-bar/eagle-in-exile-at-mixers-bar-in-baltimore-md
UID:https://www.prideparade.net/events/view/united-states/baltimore-md/mixers-bar/eagle-in-exile-at-mixers-bar-in-baltimore-md
DTSTAMP:20230502T174624
LAST-MODIFIED:20230502T174624
CATEGORIES:Events
STATUS:CONFIRMED
SEQUENCE:1
ORGANIZER;CN=PrideParade.net:X-ADDR:https://www.prideparade.net/
LOCATION:6037 Belair Road\, Baltimore, MD. United states
END:VEVENT
END:VCALENDAR
