BEGIN:VCALENDAR
X-WR-CALNAME:PrideParade.net
VERSION:2.0
PRODID:-//PrideParade.net ICS//EN
CALSCALE:GREGORIAN
METHOD:PUBLISH
BEGIN:VEVENT
DTSTART;VALUE=DATE-TIME:20170902T200000
DTEND;VALUE=DATE-TIME:20170902T200000
TRANSP:TRANSPARENT
SUMMARY:Diva Royale
DESCRIPTION:The Best in Atlantic City Celebrity Impersonation. Our drag queens will twist and turn for your dollars.\nCome Celebrate With Us Your Birthday\, Bachelorette\, Sweet 16\, Anniversary Or Any Special Event. We Will Make Your Night Unforgettable!\nOVER 21 ONLY!!!!!!\nAdditional Tickets available at the door for a slightly higher cost.GA to VIP upgrades available at the door.Hot Seats available at the door.All door transactions are CASH ONLY!
URL;VALUE=URI:https://www.prideparade.net/events/view/united-states/atlantic-city-nj/anthem-lounge/diva-royale-6
UID:https://www.prideparade.net/events/view/united-states/atlantic-city-nj/anthem-lounge/diva-royale-6
DTSTAMP:20170801T230942
LAST-MODIFIED:20170801T230942
CATEGORIES:Events
STATUS:CONFIRMED
SEQUENCE:0
ORGANIZER;CN=PrideParade.net:X-ADDR:https://www.prideparade.net/
LOCATION:2801 Pacific Avenue\, Atlantic City, NJ. United states
END:VEVENT
END:VCALENDAR
