BEGIN:VCALENDAR
X-WR-CALNAME:PrideParade.net
VERSION:2.0
PRODID:-//PrideParade.net ICS//EN
CALSCALE:GREGORIAN
METHOD:PUBLISH
BEGIN:VEVENT
DTSTART;VALUE=DATE-TIME:20230924T220000
DTEND;VALUE=DATE-TIME:20230924T220000
TRANSP:TRANSPARENT
SUMMARY:Chunk Folsom at F8 in San Francisco CA
DESCRIPTION:Chunk Folsom at F8 in San Francisco CA\nSunday\, September 24\, 2023 - 10:00PM to 4:00AM PST\nWHIPS AND CHAINS MAY GIVE US BONES CHUNK WILL ALWAYS LOVE YOU\nCHUNK PRESENTS - FOLSOM 2023 - TIL 4am - 3 ROOMS // 6 DJS\nARIEL ZETINA // DICAP// THCKRTANKER // GOLDILOCKS // FIVE MORE TBA\nHOT GOGO BEARS // TAROT EXTRAVAGANZA\nWebsite:\nfeightsf.com\nTickets:\nchunk-party.com
URL;VALUE=URI:https://www.prideparade.net/events/view/united-states/san-francisco-ca/f8/chunk-folsom-at-f8-in-san-francisco-ca
UID:https://www.prideparade.net/events/view/united-states/san-francisco-ca/f8/chunk-folsom-at-f8-in-san-francisco-ca
DTSTAMP:20230808T133820
LAST-MODIFIED:20230808T133820
CATEGORIES:Events
STATUS:CONFIRMED
SEQUENCE:0
ORGANIZER;CN=PrideParade.net:X-ADDR:https://www.prideparade.net/
LOCATION:1192 Folsom Street\, San Francisco, CA. United states
END:VEVENT
END:VCALENDAR
