BEGIN:VCALENDAR
X-WR-CALNAME:PrideParade.net
VERSION:2.0
PRODID:-//PrideParade.net ICS//EN
CALSCALE:GREGORIAN
METHOD:PUBLISH
BEGIN:VEVENT
DTSTART;VALUE=DATE-TIME:20130411T210000
DTEND;VALUE=DATE-TIME:20130411T210000
TRANSP:TRANSPARENT
SUMMARY:XO Thursday
DESCRIPTION:GlowParty 9p-2a LGBT\nDj Midi\n&nbsp;\n18 To Enter - 21 To Drink\n$5@ The Door 1st Drink On The House 10-12a&nbsp;
URL;VALUE=URI:https://www.prideparade.net/events/view/united-states/philadelphia-pa/club-1800/xo-thursday
UID:https://www.prideparade.net/events/view/united-states/philadelphia-pa/club-1800/xo-thursday
DTSTAMP:20130403T142854
LAST-MODIFIED:20130403T142854
CATEGORIES:Events
STATUS:CONFIRMED
SEQUENCE:0
ORGANIZER;CN=PrideParade.net:X-ADDR:https://www.prideparade.net/
LOCATION:1850 North 5th Street\, Philadelphia, PA. United states
END:VEVENT
END:VCALENDAR
