BEGIN:VCALENDAR
X-WR-CALNAME:PrideParade.net
VERSION:2.0
PRODID:-//PrideParade.net ICS//EN
CALSCALE:GREGORIAN
METHOD:PUBLISH
BEGIN:VEVENT
DTSTART;VALUE=DATE-TIME:20180414T190000
DTEND;VALUE=DATE-TIME:20180414T190000
TRANSP:TRANSPARENT
SUMMARY:Disciples Of Color
DESCRIPTION:There comes a time when you must &ldquo;choose&rdquo; or NoT!!! Come find out who&rsquo;s into what with the system that has worked cross the decades... The &ldquo;DISCIPLES OF COLOR&rdquo; awaits you\, this is HANKY CODE NIGHT with the Men of ONYX\, NY-NE...&nbsp;&nbsp;If you need to find out what and what not to do\, visit&nbsp;www.onyxnynortheast.org/event-news&nbsp;to find out! You might even find some new interesting color choices you&rsquo;ve never even thought of!Taking place at the&nbsp;#EagleNYC&nbsp;on 554 W. 28th at 7pm!!!We&rsquo;re going have a few other surprises in the mists!!! See you all there!Oh and those Jello Shoots will be in the building!!! And don&rsquo;t forget to tip your Bartender\, they keep a heavy hand\, in more ways than one!
URL;VALUE=URI:https://www.prideparade.net/events/view/united-states/new-york-ny/the-eagle-nyc/disciples-of-color
UID:https://www.prideparade.net/events/view/united-states/new-york-ny/the-eagle-nyc/disciples-of-color
DTSTAMP:20180408T174433
LAST-MODIFIED:20180408T174434
CATEGORIES:Events
STATUS:CONFIRMED
SEQUENCE:0
ORGANIZER;CN=PrideParade.net:X-ADDR:https://www.prideparade.net/
LOCATION:554 West 28th Street\, New York, NY. United states
END:VEVENT
END:VCALENDAR
