BEGIN:VCALENDAR
X-WR-CALNAME:PrideParade.net
VERSION:2.0
PRODID:-//PrideParade.net ICS//EN
CALSCALE:GREGORIAN
METHOD:PUBLISH
BEGIN:VEVENT
DTSTART;VALUE=DATE-TIME:20130404T220000
DTEND;VALUE=DATE-TIME:20130405T040000
TRANSP:TRANSPARENT
SUMMARY:Score Thursdays
DESCRIPTION:Antonio Cedeno &amp; Sasha Seven\n&nbsp;\nSCORE @ BARTINI\n&nbsp;\nEVERY THURSDAY NIGHT&nbsp;\n&nbsp;\nMUSIC BY&nbsp;\n&nbsp;\nDJ OBRA PRIMITIVA\n&nbsp;\nweekly alternating DJS and Guest Hosts&nbsp;\n&nbsp;\nDRINK SPECIALS\n&nbsp;\n$5 House Vodka special\n&nbsp;\nBOTTLE SERVICE&nbsp;\n&nbsp;\nSUPER SEXY BARTENDERS\n&nbsp;\nNO COVER\n&nbsp;\nBARTINI ULTRA LOUNGE\n&nbsp;\n642 10th Ave\n&nbsp;\nHELLS KITCHEN NYC\n&nbsp;\nFor any special events or bottle service please contact\n&nbsp;\nantoniocedeno7@gmail.com\n&nbsp;\nor\n&nbsp;\nsashaseven8@gmail.com\n&nbsp;\nPictures from lasts weeks Score by : JJ MACK\n&nbsp;\nhttp://www.facebook.com/media/set/?set=a.482345855121912.107352.100000395058204&amp;type=1\nhttp://www.facebook.com/media/set/?set=a.194537590682817.50989.177625085707401&amp;type=1\nhttp://www.facebook.com/media/set/?set=a.199312650205311.52334.177625085707401&amp;type=1\nhttp://www.facebook.com/media/set/?set=a.201965103273399.52971.177625085707401&amp;type=1
URL;VALUE=URI:https://www.prideparade.net/events/view/united-states/new-york-ny/bartini-ultra-lounge/score-thursdays
UID:https://www.prideparade.net/events/view/united-states/new-york-ny/bartini-ultra-lounge/score-thursdays
DTSTAMP:20130403T215642
LAST-MODIFIED:20130403T215642
CATEGORIES:Events
STATUS:CONFIRMED
SEQUENCE:0
ORGANIZER;CN=PrideParade.net:X-ADDR:https://www.prideparade.net/
LOCATION:642 Tenth Avenue\, New York, NY. United states
END:VEVENT
END:VCALENDAR
