BEGIN:VCALENDAR
X-WR-CALNAME:PrideParade.net
VERSION:2.0
PRODID:-//PrideParade.net ICS//EN
CALSCALE:GREGORIAN
METHOD:PUBLISH
BEGIN:VEVENT
DTSTART;VALUE=DATE-TIME:20180506T160000
DTEND;VALUE=DATE-TIME:20180506T160000
TRANSP:TRANSPARENT
SUMMARY:BLUF: DC
DESCRIPTION:Every first Sunday at the DC Eagle\, come in your full leather and enjoy the company of your fellow BLUFsters.BLUF:DC is a chance for leather men and women to get in their best leather from head to toe\, or Muir cap to Boot.Come join us\, enjoy your cigars on the patio and have a drink or two. Every month\, every first Sunday.
URL;VALUE=URI:https://www.prideparade.net/events/view/united-states/washington-dc/dc-eagle/bluf-dc-3
UID:https://www.prideparade.net/events/view/united-states/washington-dc/dc-eagle/bluf-dc-3
DTSTAMP:20180430T195351
LAST-MODIFIED:20180430T195352
CATEGORIES:Events
STATUS:CONFIRMED
SEQUENCE:0
ORGANIZER;CN=PrideParade.net:X-ADDR:https://www.prideparade.net/
LOCATION:3701 Benning Road NE\, Washington, DC. United states
END:VEVENT
END:VCALENDAR
