BEGIN:VCALENDAR
X-WR-CALNAME:PrideParade.net
VERSION:2.0
PRODID:-//PrideParade.net ICS//EN
CALSCALE:GREGORIAN
METHOD:PUBLISH
BEGIN:VEVENT
DTSTART;VALUE=DATE-TIME:20130411T190000
DTEND;VALUE=DATE-TIME:20130411T190000
TRANSP:TRANSPARENT
SUMMARY:Thursday Happy Hour: DJ Alex Tech
DESCRIPTION:\nBOXERS HK's HAPPY HOUR\n&nbsp;\nPresents NYC's Legendary\n&nbsp;\nDJ ALEX TECH\n&nbsp;\nSpinning NYC's Hottest Dance Tracks!!!\n&nbsp;\n*Thursday April 11th * (Happy-Hour Upstairs) 7pm-12am\n&nbsp;\n* NEVER A COVER *\n&nbsp;\n**Thursdays Happy Hour Specials - 2/4/1 Drinks 4-9pm + $5 Absolut Drinks 9pm-Close\n&nbsp;\nNYC's Friendliest Bar Staff!!!\n&nbsp;\nBOXERS HK - 742 9th Ave @ 50th Street\n&nbsp;\nFREE DJ ALEX TECH DOWNLOADS:\nhttp://www.facebook.com/events/171092319659946/
URL;VALUE=URI:https://www.prideparade.net/events/view/united-states/new-york-ny/boxers/thursday-happy-hour-dj-alex-tech
UID:https://www.prideparade.net/events/view/united-states/new-york-ny/boxers/thursday-happy-hour-dj-alex-tech
DTSTAMP:20130409T175402
LAST-MODIFIED:20130410T204015
CATEGORIES:Events
STATUS:CONFIRMED
SEQUENCE:0
ORGANIZER;CN=PrideParade.net:X-ADDR:https://www.prideparade.net/
LOCATION:742 9th Avenue\, New York, NY. United states
END:VEVENT
END:VCALENDAR
