BEGIN:VCALENDAR
X-WR-CALNAME:PrideParade.net
VERSION:2.0
PRODID:-//PrideParade.net ICS//EN
CALSCALE:GREGORIAN
METHOD:PUBLISH
BEGIN:VEVENT
DTSTART;VALUE=DATE-TIME:20180606T213000
DTEND;VALUE=DATE-TIME:20180606T213000
TRANSP:TRANSPARENT
SUMMARY:Cowfolk Auction: Countdown To Pride Fundraiser
DESCRIPTION:Cowfolk Auction:&nbsp;Countdown To Pride Fundraiser&nbsp;\nWednesday\, June 6\, 2018 - 9:30PM\n&nbsp;\nHosted By Miss Gay Rhode Island 2018\nYolandi Fizzure
URL;VALUE=URI:https://www.prideparade.net/events/view/united-states/providence-ri/the-stable/cowfolk-auction-countdown-to-pride-fundraiser
UID:https://www.prideparade.net/events/view/united-states/providence-ri/the-stable/cowfolk-auction-countdown-to-pride-fundraiser
DTSTAMP:20180518T175927
LAST-MODIFIED:20180518T175927
CATEGORIES:Events
STATUS:CONFIRMED
SEQUENCE:0
ORGANIZER;CN=PrideParade.net:X-ADDR:https://www.prideparade.net/
LOCATION:125 Washington Street\, Providence, RI. United states
END:VEVENT
END:VCALENDAR
