BEGIN:VCALENDAR
X-WR-CALNAME:PrideParade.net
VERSION:2.0
PRODID:-//PrideParade.net ICS//EN
CALSCALE:GREGORIAN
METHOD:PUBLISH
BEGIN:VEVENT
DTSTART;VALUE=DATE-TIME:20130512T200000
DTEND;VALUE=DATE-TIME:20130512T200000
TRANSP:TRANSPARENT
SUMMARY:Sassy Second Sunday's
DESCRIPTION:Drag Mafia is SASSIER than ever-AND NOW MONTHLY!\nThat's right kiddies-Drag Mafia now hits ProBar EVERY SECOND SUNDAY STARTING IN MAY!\nAnd our first event is during ProBar's TWO YEAR ANNIVERSARY!\nJoin Philly's favorite drag queen\, the "Vaginally Challenged" Brittany Lynn as she returns to ProBar with members of her amazing crew\, Philly's infamous and HIGH-LARIOUS-LY talented DRAG MAFIA!&nbsp;\n&nbsp;\nDoors Open 8pm\nFREE Before 9pm\n$5 After\nShowtime 11PM\n&nbsp;\nCome see the wonderful "Divas Do Ac" then stick around for Brittany's triumphant return to the ProBar stage with her favorite gal pals-a different cast every month with all your AC and Philly faves!\n&nbsp;\nMake it an overnight stay at our special rate and make sure you don't miss any of the fun as we go all night long!&nbsp;\n&nbsp;\nBrittany was your Miss'd America 2004 and paraded with the AC gals on the actual Miss America float down New York Avenue\, has opened for Sandra Bernhard in Philly\, and most recently led the first drag brigade in the Philly Mummers Parade! Named "one of the top faces in Philadelphia" by Philly Weekly and recently given her own day (March 15 in Philadelphia is now Brittany Lynn Day-how gay is that?!?!) by the City Council of Philadelphia\, Brittany and her gang always bring it to the stage so DON'T MISS OUT!&nbsp;\n&nbsp;\nLive singing\, dancing\, comedy\, and ProBar's TWO YEAR ANNIVERSARY?-GRAB A SEAT EARLY FOR THIS ONE KIDS...\n&nbsp;\nSEE Y'ALL THERE!\n&nbsp;\nCast tba later this week!\n&nbsp;\n&nbsp;\nwww.phillydragmafia.com
URL;VALUE=URI:https://www.prideparade.net/events/view/united-states/atlantic-city-nj/pro-bar/sassy-second-sunday-s
UID:https://www.prideparade.net/events/view/united-states/atlantic-city-nj/pro-bar/sassy-second-sunday-s
DTSTAMP:20130417T120238
LAST-MODIFIED:20130417T120239
CATEGORIES:Events
STATUS:CONFIRMED
SEQUENCE:0
ORGANIZER;CN=PrideParade.net:X-ADDR:https://www.prideparade.net/
LOCATION:1133 Boardwalk\, Atlantic City, NJ. United states
END:VEVENT
END:VCALENDAR
