BEGIN:VCALENDAR
X-WR-CALNAME:PrideParade.net
VERSION:2.0
PRODID:-//PrideParade.net ICS//EN
CALSCALE:GREGORIAN
METHOD:PUBLISH
BEGIN:VEVENT
DTSTART;VALUE=DATE-TIME:20180621T190000
DTEND;VALUE=DATE-TIME:20180621T190000
TRANSP:TRANSPARENT
SUMMARY:Anthony DeRose: Official Campaign Kick-Off
DESCRIPTION:Join Anthony for the official kick-off of his campaign to become the next City Councilor representing the residents of Providence&rsquo;s West End\, Federal Hill and Downtown neighborhoods.&nbsp;The Dark Lady&nbsp;19 Snow St.Providence\, RI 029037:00-9:00pmDonations are NOT required but much appreciated.***Suggested Donation***$ 25.00 - Students/Young Professionals$ 50.00 - SupportersChecks can be made payable to the Committee to Elect Anthony DeRose.
URL;VALUE=URI:https://www.prideparade.net/events/view/united-states/providence-ri/the-dark-lady/anthony-derose-official-campaign-kick-off
UID:https://www.prideparade.net/events/view/united-states/providence-ri/the-dark-lady/anthony-derose-official-campaign-kick-off
DTSTAMP:20180605T134032
LAST-MODIFIED:20180605T134033
CATEGORIES:Events
STATUS:CONFIRMED
SEQUENCE:0
ORGANIZER;CN=PrideParade.net:X-ADDR:https://www.prideparade.net/
LOCATION:19 Snow Street\, Providence, RI. United states
END:VEVENT
END:VCALENDAR
