BEGIN:VCALENDAR
X-WR-CALNAME:PrideParade.net
VERSION:2.0
PRODID:-//PrideParade.net ICS//EN
CALSCALE:GREGORIAN
METHOD:PUBLISH
BEGIN:VEVENT
DTSTART;VALUE=DATE-TIME:20130427T220000
DTEND;VALUE=DATE-TIME:20130427T220000
TRANSP:TRANSPARENT
SUMMARY:Lip Service
DESCRIPTION:There are parties and then there are events... Come celebrate Philly Black Pride on Saturday\, April 27th as Maroon Eyes Philly presents LIP SERVICE for the Grown\, Fly and Classy...&nbsp;Saturday\, April 27thLIP SERVICEUltimate Indoor/Outdoor All Girl Party@ Mikeys (3180 Chestnut St.)Hosted by KAMIELLE LEAI (reality star &amp; video vixen)w/ DJ Shorty Wop\, DJ JStarr\, DJ Deluxx &amp; DJ Honeg in the set... And SHAQ on the mic gettin the party rockin'TICKETS $20 on sale NOW! (More @ Door)**Guest Bartender NYC's Maritza serving drink specials 10pm-12am**LIP SERVICE will be the event of the weekend... With beautiful women from Philly\, NYC\, DMV\, Atlanta\, LA\, North Carolina\, Canada\, NJ\, DE and beyond...21 &amp; OverAttire: Grown\, Fly &amp; ClassyDrink specials\, late night menu\, bottle service and birthday packages available... for TICKETS or info texr 267-278-4596\, marooneyes215@gmail.com&nbsp;Come out and taste the rainbow and party with KAMIELLE LEAI... As you already know she will bring it the best\, the baddest and the beautiful...LIP SERVICESaturday\, April 27thMikeys (3180 Chestnut St)Invite a friend because this is an event that you don't want to miss...Ciao!Maroon Eyes Philly
URL;VALUE=URI:https://www.prideparade.net/events/view/united-states/philadelphia-pa/mikey-s-bar/lip-service
UID:https://www.prideparade.net/events/view/united-states/philadelphia-pa/mikey-s-bar/lip-service
DTSTAMP:20130324T160237
LAST-MODIFIED:20130324T160238
CATEGORIES:Events
STATUS:CONFIRMED
SEQUENCE:0
ORGANIZER;CN=PrideParade.net:X-ADDR:https://www.prideparade.net/
LOCATION:3180 Chestnut Street\, Philadelphia, PA. United states
END:VEVENT
END:VCALENDAR
