BEGIN:VCALENDAR
X-WR-CALNAME:PrideParade.net
VERSION:2.0
PRODID:-//PrideParade.net ICS//EN
CALSCALE:GREGORIAN
METHOD:PUBLISH
BEGIN:VEVENT
DTSTART;VALUE=DATE-TIME:20130511T210000
DTEND;VALUE=DATE-TIME:20130511T210000
TRANSP:TRANSPARENT
SUMMARY:Redemption Party Weekend Presents: Max Ryder
DESCRIPTION:World Renowned Gay Porn Star Max Ryder will be appearing and serving shots this Saturday at Crimson. Max is a member of one of the top gay porn companies in America the "Cockyboys".&nbsp;\n&nbsp;\nCheck out their site at cockyboys.com and his newest film RoadStrip.&nbsp;\n&nbsp;\nEXCLUSIVE promos for the Redemption event will be taking place for those who buy their tickets at this event. Be sure to like us on facebook at Facebook.com/Redemptionpartyweekend and check out our performance lineup at redemptionparty.com
URL;VALUE=URI:https://www.prideparade.net/events/view/united-states/wilmington-de/crimson-moon/redemption-party-weekend-presents-max-ryder
UID:https://www.prideparade.net/events/view/united-states/wilmington-de/crimson-moon/redemption-party-weekend-presents-max-ryder
DTSTAMP:20130509T114927
LAST-MODIFIED:20130509T114927
CATEGORIES:Events
STATUS:CONFIRMED
SEQUENCE:0
ORGANIZER;CN=PrideParade.net:X-ADDR:https://www.prideparade.net/
LOCATION:1909 West 6th Street\, Wilmington, DE. United states
END:VEVENT
END:VCALENDAR
