BEGIN:VCALENDAR
X-WR-CALNAME:PrideParade.net
VERSION:2.0
PRODID:-//PrideParade.net ICS//EN
CALSCALE:GREGORIAN
METHOD:PUBLISH
BEGIN:VEVENT
DTSTART;VALUE=DATE-TIME:20190428T210000
DTEND;VALUE=DATE-TIME:20190428T210000
TRANSP:TRANSPARENT
SUMMARY:Burning Bridges Of Douglas County
DESCRIPTION:Bridges are being burned in this hysterical roast hosted by Manic Case. And this year's honoree is Reyna Del Mundo!
URL;VALUE=URI:https://www.prideparade.net/events/view/united-states/omaha-ne/the-max/burning-bridges-of-douglas-county
UID:https://www.prideparade.net/events/view/united-states/omaha-ne/the-max/burning-bridges-of-douglas-county
DTSTAMP:20190409T183136
LAST-MODIFIED:20190409T183137
CATEGORIES:Events
STATUS:CONFIRMED
SEQUENCE:0
ORGANIZER;CN=PrideParade.net:X-ADDR:https://www.prideparade.net/
LOCATION:1417 Jackson Street\, Omaha, NE. United states
END:VEVENT
END:VCALENDAR
