BEGIN:VCALENDAR
X-WR-CALNAME:PrideParade.net
VERSION:2.0
PRODID:-//PrideParade.net ICS//EN
CALSCALE:GREGORIAN
METHOD:PUBLISH
BEGIN:VEVENT
DTSTART;VALUE=DATE-TIME:20130514T223000
DTEND;VALUE=DATE-TIME:20130514T223000
TRANSP:TRANSPARENT
SUMMARY:Mistress
DESCRIPTION:Come and enjoy myself\, Sir Honey Davenport\, and Detoxx B&uacute;sti-ae as we give you another edition of our all new three diva revue!!!
URL;VALUE=URI:https://www.prideparade.net/events/view/united-states/new-york-ny/boots-saddle-1/mistress
UID:https://www.prideparade.net/events/view/united-states/new-york-ny/boots-saddle-1/mistress
DTSTAMP:20130514T195628
LAST-MODIFIED:20130514T195628
CATEGORIES:Events
STATUS:CONFIRMED
SEQUENCE:0
ORGANIZER;CN=PrideParade.net:X-ADDR:https://www.prideparade.net/
LOCATION:100 7th Avenue South\, New York, NY. United states
END:VEVENT
END:VCALENDAR
